BEGIN:VCALENDAR
VERSION:2.0
PRODID:-//Soroptimist International of Placerville - ECPv6.15.17.1//NONSGML v1.0//EN
CALSCALE:GREGORIAN
METHOD:PUBLISH
X-WR-CALNAME:Soroptimist International of Placerville
X-ORIGINAL-URL:https://siplacerville.org
X-WR-CALDESC:Events for Soroptimist International of Placerville
REFRESH-INTERVAL;VALUE=DURATION:PT1H
X-Robots-Tag:noindex
X-PUBLISHED-TTL:PT1H
BEGIN:VTIMEZONE
TZID:America/Los_Angeles
BEGIN:DAYLIGHT
TZOFFSETFROM:-0800
TZOFFSETTO:-0700
TZNAME:PDT
DTSTART:20250309T100000
END:DAYLIGHT
BEGIN:STANDARD
TZOFFSETFROM:-0700
TZOFFSETTO:-0800
TZNAME:PST
DTSTART:20251102T090000
END:STANDARD
BEGIN:DAYLIGHT
TZOFFSETFROM:-0800
TZOFFSETTO:-0700
TZNAME:PDT
DTSTART:20260308T100000
END:DAYLIGHT
BEGIN:STANDARD
TZOFFSETFROM:-0700
TZOFFSETTO:-0800
TZNAME:PST
DTSTART:20261101T090000
END:STANDARD
BEGIN:DAYLIGHT
TZOFFSETFROM:-0800
TZOFFSETTO:-0700
TZNAME:PDT
DTSTART:20270314T100000
END:DAYLIGHT
BEGIN:STANDARD
TZOFFSETFROM:-0700
TZOFFSETTO:-0800
TZNAME:PST
DTSTART:20271107T090000
END:STANDARD
END:VTIMEZONE
BEGIN:VEVENT
DTSTART;TZID=America/Los_Angeles:20260423T173000
DTEND;TZID=America/Los_Angeles:20260424T190000
DTSTAMP:20260422T120533
CREATED:20260420T214410Z
LAST-MODIFIED:20260420T214549Z
UID:1076-1776965400-1777057200@siplacerville.org
SUMMARY:Dinner Social (Placerville Public House)
DESCRIPTION:Join us from 5:30 – 7 PM at Placerville Public House\, 305 Main Street\, Placerville for a scrumptious dinner and good company.
URL:https://siplacerville.org/event/dinner-social-pacerville-public-house/
END:VEVENT
END:VCALENDAR